BEGIN:VCALENDAR
VERSION:2.0
PRODID:-//eventon.com NONSGML v1.0//EN
BEGIN:VEVENT
UID:69e754b99c782
DTSTAMP:20260421T124305
DTSTART:20260327T180000Z
DTEND:20260327T225000Z
TZID:Europe/Berlin
LOCATION:Marienkirche Marienkirche
SUMMARY:Gebet und Stille
DESCRIPTION: „Wenn es nur einmal so ganz stille wäre …“ – mit diesen Worten beginnt ein Gedicht aus Rainer Maria Rilkes Stundenbuch. Vorn im Chorraum der Marienkirche unter den wiederhergestellten Fenstern kann das geschehen: stille werden in einer kleinen Form des Gottesdiensts am Abend. Pfarrer Daniel Geiss.\nhttps://kirchenkreis-hanau.de/events/gebet-und-stille-9/
URL:https://kirchenkreis-hanau.de/events/gebet-und-stille-9/
END:VEVENT
END:VCALENDAR