BEGIN:VCALENDAR
VERSION:2.0
PRODID:-//eventon.com NONSGML v1.0//EN
BEGIN:VEVENT
UID:69e767fdde590
DTSTAMP:20260421T140517
DTSTART:20260419T210000Z
DTEND:20260420T105000Z
TZID:Pacific/Midway
LOCATION:Ev. Kirche Roßdorf Kirchstraße 19\,  63486 Bruchköbel
SUMMARY:10:00 Uhr Gottesdienst
DESCRIPTION: Herzliche Einladung zum Gottesdienst mit Lektorin Pia Bedürftig.\nhttps://kirchenkreis-hanau.de/events/1000-uhr-gottesdienst-4/
URL:https://kirchenkreis-hanau.de/events/1000-uhr-gottesdienst-4/
END:VEVENT
END:VCALENDAR