BEGIN:VCALENDAR
VERSION:2.0
PRODID:-//eventon.com NONSGML v1.0//EN
BEGIN:VEVENT
UID:69e7680d99b53
DTSTAMP:20260421T140533
DTSTART:20260405T170000Z
DTEND:20260406T105000Z
TZID:Pacific/Midway
LOCATION:Ev. Kirche Roßdorf Kirchstraße 19\,  63486 Bruchköbel
SUMMARY:6:00 Uhr Osternacht unterwegs
DESCRIPTION: Wir laden herzlich ein zur &#8220;Bewegten Osternacht&#8221; mit Abendmahl am Ostersonntag\,  5. April 2026\,  6.00 Uhr\,  die vom Posaunenchor musikalisch und Pfarrerin Christine Binder und Team gestaltet wird. Gemeinsam wollen wir den Wandeln von der Dunkelheit in den leuchtenden Ostermorgen mit allen Sinnen erleben. Die Laufstrecke ist ca. 2\, 7 km[..]\nhttps://kirchenkreis-hanau.de/events/600-uhr-osternacht-unterwegs/
URL:https://kirchenkreis-hanau.de/events/600-uhr-osternacht-unterwegs/
END:VEVENT
END:VCALENDAR