BEGIN:VCALENDAR
VERSION:2.0
PRODID:-//eventon.com NONSGML v1.0//EN
BEGIN:VEVENT
UID:69e73dbb28b60
DTSTAMP:20260421T110459
DTSTART:20260404T060000Z
DTEND:20260404T105000Z
TZID:Pacific/Midway
LOCATION:Ev. Kirche Roßdorf Kirchstraße 19\,  63486 Bruchköbel
SUMMARY:15:00 Uhr Karfreitagsgottesdienst
DESCRIPTION: Herzliche Einladung zum Gottesdienst mit Pfarrerin Christine Binder.\nhttps://kirchenkreis-hanau.de/events/1500-uhr-karfreitagsgottesdienst/
URL:https://kirchenkreis-hanau.de/events/1500-uhr-karfreitagsgottesdienst/
END:VEVENT
END:VCALENDAR