BEGIN:VCALENDAR
VERSION:2.0
PRODID:-//eventon.com NONSGML v1.0//EN
BEGIN:VEVENT
UID:69e7479bc7a98
DTSTAMP:20260421T114707
DTSTART:20260403T060000Z
DTEND:20260403T105000Z
TZID:Pacific/Midway
LOCATION:Ev. Kirche Roßdorf Kirchstraße 19\,  63486 Bruchköbel
SUMMARY:19.00 Uhr Abendmahlsgottesdienst zum Gründonnerstag
DESCRIPTION: Herzliche Einladung zum Gottesdienst mit Pfarrerin Christine Binder.\nhttps://kirchenkreis-hanau.de/events/19-00-uhr-abendmahlsgottesdienst-zum-gruendonnerstag/
URL:https://kirchenkreis-hanau.de/events/19-00-uhr-abendmahlsgottesdienst-zum-gruendonnerstag/
END:VEVENT
END:VCALENDAR