BEGIN:VCALENDAR
VERSION:2.0
PRODID:-//eventon.com NONSGML v1.0//EN
BEGIN:VEVENT
UID:69e7417c7b6be
DTSTAMP:20260421T112100
DTSTART:20260322T210000Z
DTEND:20260323T105000Z
TZID:Pacific/Midway
LOCATION:Ev. Kirche Roßdorf Kirchstraße 19\,  63486 Bruchköbel
SUMMARY:10:00 Uhr Bläser-Passionsandacht
DESCRIPTION: Herzliche Einladung zur Bläser-Passionsandacht mit dem Posaunenchor Roßdorf unter der Leitung von Benjamin Knorr.\nhttps://kirchenkreis-hanau.de/events/1000-uhr-blaeser-passionsandacht/
URL:https://kirchenkreis-hanau.de/events/1000-uhr-blaeser-passionsandacht/
END:VEVENT
END:VCALENDAR