BEGIN:VCALENDAR
VERSION:2.0
PRODID:-//eventon.com NONSGML v1.0//EN
BEGIN:VEVENT
UID:69e7506b9eb43
DTSTAMP:20260421T122443
DTSTART:20260412T210000Z
DTEND:20260412T223000Z
TZID:Pacific/Midway
LOCATION:Ev. Gemeindehaus Roßdorf Kirchstraße 19\,  63486 Bruchköbel
SUMMARY:KiGo im Gemeindehaus
DESCRIPTION: KiGo im Gemeindehaus\nhttps://kirchenkreis-hanau.de/events/kigo-im-gemeindehaus-5/
URL:https://kirchenkreis-hanau.de/events/kigo-im-gemeindehaus-5/
END:VEVENT
END:VCALENDAR