BEGIN:VCALENDAR
VERSION:2.0
PRODID:-//eventon.com NONSGML v1.0//EN
BEGIN:VEVENT
UID:69e7509040e25
DTSTAMP:20260421T122520
DTSTART:20260223T060000Z
DTEND:20260223T070000Z
TZID:Pacific/Midway
LOCATION:
SUMMARY:- ENTFÄLLT- Offenes Singen in der Kirche - ENTFÄLLT-
DESCRIPTION: Singen\,  weil es Spaß macht &#8211; mit Mareike Schinz und Niklas Vogt.\nhttps://kirchenkreis-hanau.de/events/offenes-singen-in-der-kirche-4/
URL:https://kirchenkreis-hanau.de/events/offenes-singen-in-der-kirche-4/
END:VEVENT
END:VCALENDAR