BEGIN:VCALENDAR
VERSION:2.0
PRODID:-//eventon.com NONSGML v1.0//EN
BEGIN:VEVENT
UID:69e768032beec
DTSTAMP:20260421T140523
DTSTART:20260427T013000Z
DTEND:20260427T040000Z
TZID:Pacific/Midway
LOCATION:Ev. Gemeindehaus Roßdorf Kirchstraße 19\,  63486 Bruchköbel
SUMMARY:Kirchencafé im Gemeindehaus
DESCRIPTION: Kirchencafé im Gemeindehaus\nhttps://kirchenkreis-hanau.de/events/kirchencafe-im-gemeindehaus-5/
URL:https://kirchenkreis-hanau.de/events/kirchencafe-im-gemeindehaus-5/
END:VEVENT
END:VCALENDAR