BEGIN:VCALENDAR
VERSION:2.0
PRODID:-//eventon.com NONSGML v1.0//EN
BEGIN:VEVENT
UID:69e7545cdea95
DTSTAMP:20260421T124132
DTSTART:20260215T213000Z
DTEND:20260215T223000Z
TZID:Pacific/Midway
LOCATION:
SUMMARY:Gottesdienst in der Laurentiuskirche am 15. Februar
DESCRIPTION: mit Pfarrerin Kathrin Fuchs. Es können noch Menschen zur Taufe in diesem Gottesdienst angemeldet werden bei Pfrin Kathrin Fuchs: kathrin.fuchs@ekkw.de oder telefonisch unter 06109/31872. Der Gottesdienst beginnt um 10:30 Uhr in Enkheim\,  Laurentiusstraße.\nhttps://kirchenkreis-hanau.de/events/gottesdienst-in-der-laurentiuskirche-am-15-februar/
URL:https://kirchenkreis-hanau.de/events/gottesdienst-in-der-laurentiuskirche-am-15-februar/
END:VEVENT
END:VCALENDAR