BEGIN:VCALENDAR
VERSION:2.0
PRODID:-//eventon.com NONSGML v1.0//EN
BEGIN:VEVENT
UID:69e7652254887
DTSTAMP:20260421T135306
DTSTART:20260210T063000Z
DTEND:20260210T073000Z
TZID:Pacific/Midway
LOCATION:Ev. Gemeindehaus Windecken Eugen-Kaiser-Str. 35a\,  61130 Nidderau
SUMMARY:Literaturkreis bespricht Buch eines Soziologen\,  in Windecken
DESCRIPTION: Der Theologische Literaturkreis will im ersten Halbjahr das Buch „Unverfügbarkeit“ des Soziologen Hartmut Rosa besprechen. Das erste von drei Treffen hierzu ist für Montag\,  9. Februar\,  19.30 Uhr im evangelischen Gemeindehaus Windecken (Eugen-Kaiser-Straße 35) vorgesehen. Für die Teilnahme muss man sich nicht anmelden. Der Theologische Literaturkreis ist offen für alle\, [..]\nhttps://kirchenkreis-hanau.de/events/literaturkreis-bespricht-buch-eines-soziologen-in-windecken/
URL:https://kirchenkreis-hanau.de/events/literaturkreis-bespricht-buch-eines-soziologen-in-windecken/
END:VEVENT
END:VCALENDAR