BEGIN:VCALENDAR
VERSION:2.0
PRODID:-//eventon.com NONSGML v1.0//EN
BEGIN:VEVENT
UID:69e7bd71964ff
DTSTAMP:20260421T200953
DTSTART:20260115T020000Z
DTEND:20260115T040000Z
TZID:Pacific/Midway
LOCATION:
SUMMARY:Seniorenclub
DESCRIPTION: Alle Seniorinnen und Senioren sind herzlich eingeladen zum Seniorenclub am Mittwoch\,  den 14.01.\,  um 15 Uhr ins evangelische Gemeindezentrum. Frau Janz und ihr Team freuen sich über alle\,  die kommen.\nhttps://kirchenkreis-hanau.de/events/seniorenclub-5/
URL:https://kirchenkreis-hanau.de/events/seniorenclub-5/
END:VEVENT
END:VCALENDAR