BEGIN:VCALENDAR
VERSION:2.0
PRODID:-//eventon.com NONSGML v1.0//EN
BEGIN:VEVENT
UID:69e7a86538fab
DTSTAMP:20260421T184005
DTSTART:20260102T040000Z
DTEND:20260102T053000Z
TZID:Pacific/Midway
LOCATION:
SUMMARY:Gottesdienst zum Neujahr
DESCRIPTION: &#8220;Gott spricht: Siehe\,  ich mache alles neu!&#8221; (Off. 21\,  5). Diese Worte sollen Christinnen und Christen dieses Jahr begleiten. Deswegen feiern wir am Donnerstag\,  den 01. Januar\,  um 17 Uhr Gottesdienst zur Jahreslosung 2026. Wir stoßen bei Sekt und Selters zusammen mit Pfarrerin Miriam Weiner in der Berger Kirche auf[..]\nhttps://kirchenkreis-hanau.de/events/gottesdienst-zum-neujahr/
URL:https://kirchenkreis-hanau.de/events/gottesdienst-zum-neujahr/
END:VEVENT
END:VCALENDAR