BEGIN:VCALENDAR
VERSION:2.0
PRODID:-//eventon.com NONSGML v1.0//EN
BEGIN:VEVENT
UID:69e77b855a29a
DTSTAMP:20260421T152837
DTSTART:20260113T020000Z
DTEND:20260113T040000Z
TZID:Pacific/Midway
LOCATION:
SUMMARY:Frauenkreis
DESCRIPTION: Die Frauen des Frauenkreises der Kirchengemeinde treffen sich um 15 Uhr im evangelischen Gemeindezentrum Bergen zu einem gemütlichen Beisammensein.\nhttps://kirchenkreis-hanau.de/events/frauenkreis-3/
URL:https://kirchenkreis-hanau.de/events/frauenkreis-3/
END:VEVENT
END:VCALENDAR