BEGIN:VCALENDAR
VERSION:2.0
PRODID:-//eventon.com NONSGML v1.0//EN
BEGIN:VEVENT
UID:69e4d5b6c7853
DTSTAMP:20260419T151638
DTSTART:20260330T170000Z
DTEND:20260330T215000Z
TZID:Europe/Berlin
LOCATION:Marienkirche Marienkirche
SUMMARY:"Verbunden"
DESCRIPTION: Kreuze mit Geschichte und blaue Bänder\,  die Leiden und Hoffnung verbinden. Ausstellung mit Werken des Malers und Bildhauers Pablo Hirndorf aus Warpe bei Nienburg. Die verbundenen Kreuze werden im Chorraum der Marienkirche ausgestellt. Vernissage: Montag\,  30. März\,  19:00 Uhr\,  Marienkirche Hanau. Ausstellung geöffnet: Samstag\,  04. und 11. April\,  12:00 bis[..]\nhttps://kirchenkreis-hanau.de/events/verbunden/
URL:https://kirchenkreis-hanau.de/events/verbunden/
END:VEVENT
END:VCALENDAR