BEGIN:VCALENDAR
VERSION:2.0
PRODID:-//eventon.com NONSGML v1.0//EN
BEGIN:VEVENT
UID:69e73d1b34e37
DTSTAMP:20260421T110219
DTSTART:20251208T040000Z
DTEND:20251208T070000Z
TZID:Pacific/Midway
LOCATION:
SUMMARY:Adventskonzert des Posaunenchors am 2. Advent
DESCRIPTION: Herzliche Einladung zum Adventskonzert am 7. Dezember um 17 Uhr in der Laurentiuskirche in Enkheim.  Anstatt Merry Christmas heißt es dieses Jahr beim Adventskonzert des Evangelischen Posaunenchores „Mary“ Christmas. Warum\,  werden Sie beim Konzert erleben. Lassen Sie sich überraschen\,  mit welchen festlichen und beschwingten Stücken Sie der Posaunenchor adventlich einstimmt. Der[..]\nhttps://kirchenkreis-hanau.de/events/adventskonzert-des-posaunenchors-am-2-advent/
URL:https://kirchenkreis-hanau.de/events/adventskonzert-des-posaunenchors-am-2-advent/
END:VEVENT
END:VCALENDAR