BEGIN:VCALENDAR
VERSION:2.0
PRODID:-//eventon.com NONSGML v1.0//EN
BEGIN:VEVENT
UID:69e740d963794
DTSTAMP:20260421T111817
DTSTART:20251225T020000Z
DTEND:20251225T030000Z
TZID:Pacific/Midway
LOCATION:Ev. Brückenkirche Heldenbergen Bahnhofstraße 42\,  61130 Nidderau
SUMMARY:Familiengottesdienst mit Krippenspiel
DESCRIPTION: Heiligabend &nbsp; &nbsp;\nhttps://kirchenkreis-hanau.de/events/familiengottesdienst-mit-krippenspiel/
URL:https://kirchenkreis-hanau.de/events/familiengottesdienst-mit-krippenspiel/
END:VEVENT
END:VCALENDAR