BEGIN:VCALENDAR
VERSION:2.0
PRODID:-//eventon.com NONSGML v1.0//EN
BEGIN:VEVENT
UID:69e77b6be35aa
DTSTAMP:20260421T152811
DTSTART:20260111T210000Z
DTEND:20260111T220000Z
TZID:Pacific/Midway
LOCATION:Ev. Gemeindehaus Brückengemeinde Heldenbergen Bahnhofstraße 42\,  61130 Nidderau
SUMMARY:KiGo und Mini-Gottesdienst / Bibeltreff
DESCRIPTION: KiGo und Mini-Gottesdienst / Bibeltreff Mini-Gottesdienst – Für Kleine mit Großen ab 0 Jahren Die Kleinsten in der Gemeinde erleben hier zusammen mit Eltern und Begleitern Bibelgeschichten und setzen diese kreativ um. Es geht immer um 10 Uhr los. Im Anschluss (ab etwa 10.30 Uhr) gibt es bei Getränken und[..]\nhttps://kirchenkreis-hanau.de/events/kigo-und-mini-gottesdienst-bibeltreff/
URL:https://kirchenkreis-hanau.de/events/kigo-und-mini-gottesdienst-bibeltreff/
END:VEVENT
END:VCALENDAR