BEGIN:VCALENDAR
VERSION:2.0
PRODID:-//eventon.com NONSGML v1.0//EN
BEGIN:VEVENT
UID:69e740e659f06
DTSTAMP:20260421T111830
DTSTART:20251215T040000Z
DTEND:20251215T044500Z
TZID:Pacific/Midway
LOCATION:Ev. Kirche Ostheim Kirchgasse 2a\,  61130 Nidderau
SUMMARY:Gottesdienst zum 3. Advent\,  in Ostheim
DESCRIPTION: Drei Predigten mit Fortsetzung: So wird Pfarrer Lukas Ohly eine längere biblische Erzählung auslegen. Vom 2. bis zum 4. Advent wird die geheimnisvolle Erzählung von Nikodemus im Mittelpunkt stehen\,  der Jesus in der dunklen Nacht besucht\,  um etwas vom wahren Schein zu erfahren\,  der in der Geburt liegt. Die Adventsgottesdienste[..]\nhttps://kirchenkreis-hanau.de/events/gottesdienst-zum-3-advent-in-ostheim/
URL:https://kirchenkreis-hanau.de/events/gottesdienst-zum-3-advent-in-ostheim/
END:VEVENT
END:VCALENDAR