BEGIN:VCALENDAR
VERSION:2.0
PRODID:-//eventon.com NONSGML v1.0//EN
BEGIN:VEVENT
UID:69e741028c0b9
DTSTAMP:20260421T111858
DTSTART:20251225T213000Z
DTEND:20251225T230000Z
TZID:Pacific/Midway
LOCATION:
SUMMARY:Weihnachtsgottesdienst Weihnachtswunschliedersingen
DESCRIPTION: Den Gottesdienst gestaltet der Kirchenvorstand mit Abendmahl und dem Posaunenchor\,  Details zu unseren Gottesdiensten finden Sie unter: https://kirchenkreis-hanau.de/kirchengemeinden/hanau-kesselstadt/hanau-kesselstadt-gottesdienst/ &nbsp;\nhttps://kirchenkreis-hanau.de/events/weihnachtsgottesdienst-weihnachtswunschliedersingen/
URL:https://kirchenkreis-hanau.de/events/weihnachtsgottesdienst-weihnachtswunschliedersingen/
END:VEVENT
END:VCALENDAR