BEGIN:VCALENDAR
VERSION:2.0
PRODID:-//eventon.com NONSGML v1.0//EN
BEGIN:VEVENT
UID:69e503e644db1
DTSTAMP:20260419T183342
DTSTART:20251124T040000Z
DTEND:20251124T060000Z
TZID:Pacific/Midway
LOCATION:
SUMMARY:Verabschiedung von Pfarrerin Elisa Schneider im Rahmen der SONNTAGS:ZEIT
DESCRIPTION: Verabschiedung von  Pfarrerin Elisa Schneider Am 23. November um 17 Uhr verabschieden wir Pfarrerin Elisa Schneider im Rahmen der Sonntagszeit. Knapp vier Jahre lang hat sie in Bergen-Enkheim gelebt\,  gearbeitet und in unserer Kirchengemeinde gewirkt. Sie wird nun nach Italien gehen\,  wo sie schon für ein Jahr im Rahmen eines EKD-Auslandsvikariats gewirkt[..]\nhttps://kirchenkreis-hanau.de/events/verabschiedung-von-pfarrerin-elisa-schneider-im-rahmen-der-sonntagszeit/
URL:https://kirchenkreis-hanau.de/events/verabschiedung-von-pfarrerin-elisa-schneider-im-rahmen-der-sonntagszeit/
END:VEVENT
END:VCALENDAR