BEGIN:VCALENDAR
VERSION:2.0
PRODID:-//eventon.com NONSGML v1.0//EN
BEGIN:VEVENT
UID:69e77b4236977
DTSTAMP:20260421T152730
DTSTART:20251130T220000Z
DTEND:20251130T230000Z
TZID:Pacific/Midway
LOCATION:
SUMMARY:Gottesdienst am 1. Advent
DESCRIPTION: Sonntag\,  30. November Gottesdienst zum 1. Advent 11:00 Uhr ! An diesem Sonntag findet der Gottesdienst um 11 Uhr statt wegen des Weihnachtsmarkts rund um den Königshof Berger Kirche\,  Am Königshof 5-7\,  60388 Frankfurt am Main Mit Pfrin. Pforr aus Bischofsheim\nhttps://kirchenkreis-hanau.de/events/gottesdienst-am-1-advent/
URL:https://kirchenkreis-hanau.de/events/gottesdienst-am-1-advent/
END:VEVENT
END:VCALENDAR