BEGIN:VCALENDAR
VERSION:2.0
PRODID:-//eventon.com NONSGML v1.0//EN
BEGIN:VEVENT
UID:69e53e25686c8
DTSTAMP:20260419T224213
DTSTART:20251124T040000Z
DTEND:20251124T053000Z
TZID:Pacific/Midway
LOCATION:
SUMMARY:SONNTAGS:ZEIT  mit Preisverleihung des Grünstiftpreises
DESCRIPTION: SONNTAGS:ZEIT mit Preisverleihung des Grünstiftpreises 17 Uhr Laurentiuskirche\,  Laurentiusstr. 1\,  60388 Frankfurt am Main &nbsp; Das SONNTAGS:ZEIT Team lädt herzlich zur Verleihung des Grünstiftpreises am 23. November um 17 Uhr in die Laurentiuskirche nach Enkheim ein. Im Rahmen der SONNTAGS:ZEIT wird Pröpstin Sabine Kropf-Brandau den Preis überreichen. Die Kirchengemeinde hat mit[..]\nhttps://kirchenkreis-hanau.de/events/sonntagszeit-mit-preisverleihung-des-gruenstiftpreises/
URL:https://kirchenkreis-hanau.de/events/sonntagszeit-mit-preisverleihung-des-gruenstiftpreises/
END:VEVENT
END:VCALENDAR