BEGIN:VCALENDAR
VERSION:2.0
PRODID:-//eventon.com NONSGML v1.0//EN
BEGIN:VEVENT
UID:69e50fcd4a90f
DTSTAMP:20260419T192429
DTSTART:20251123T213000Z
DTEND:20251123T223000Z
TZID:Pacific/Midway
LOCATION:
SUMMARY:Gottesdienst zum Totensonntag
DESCRIPTION: Sonntag\,  23. November Gottesdienst zum Totensonntag mit Verlesen der verstorbenen Gemeindemitglieder aus dem vergangenen Kirchenjahr 10:30 Uhr Berger Kirche\,  Am Königshof 5-7\,  60388 Frankfurt am Main Pfrin. Fuchs\nhttps://kirchenkreis-hanau.de/events/gottesdienst-zum-totensonntag/
URL:https://kirchenkreis-hanau.de/events/gottesdienst-zum-totensonntag/
END:VEVENT
END:VCALENDAR