BEGIN:VCALENDAR
VERSION:2.0
PRODID:-//eventon.com NONSGML v1.0//EN
BEGIN:VEVENT
UID:69e4fa79941ad
DTSTAMP:20260419T175329
DTSTART:20251120T020000Z
DTEND:20251120T024000Z
TZID:Pacific/Midway
LOCATION:
SUMMARY:Gottesdienst zum Buß- und Bettag im Rahmen des Seniorenclubs
DESCRIPTION: Mittwoch\,  19. November Gottesdienst zum Buß- und Bettag im Seniorenclub 15 Uhr Gemeindezentrum\,  Am Königshof 5-7\nhttps://kirchenkreis-hanau.de/events/gottesdienst-zum-buss-und-bettag-im-rahmen-des-seniorenclubs/
URL:https://kirchenkreis-hanau.de/events/gottesdienst-zum-buss-und-bettag-im-rahmen-des-seniorenclubs/
END:VEVENT
END:VCALENDAR