BEGIN:VCALENDAR
VERSION:2.0
PRODID:-//eventon.com NONSGML v1.0//EN
BEGIN:VEVENT
UID:69e4e29c56690
DTSTAMP:20260419T161140
DTSTART:20251118T020000Z
DTEND:20251118T040000Z
TZID:Pacific/Midway
LOCATION:
SUMMARY:Ökumenischer Frauentreff
DESCRIPTION: Montag\,  17. November 15 Uhr katholisches Gemeindezentrum in der Barbarossastr. 63 in Enkheim Kontakt: Rita Porth\,  Tel. 06109 33457\nhttps://kirchenkreis-hanau.de/events/oekumenischer-frauentreff-2/
URL:https://kirchenkreis-hanau.de/events/oekumenischer-frauentreff-2/
END:VEVENT
END:VCALENDAR