BEGIN:VCALENDAR
VERSION:2.0
PRODID:-//eventon.com NONSGML v1.0//EN
BEGIN:VEVENT
UID:69e4cb2a0cc3e
DTSTAMP:20260419T143138
DTSTART:20251113T060000Z
DTEND:20251113T080000Z
TZID:Pacific/Midway
LOCATION:
SUMMARY:Frauennetzwerk
DESCRIPTION: Mittwoch\,  12. November Frauennetzwerk 19 Uhr\,  Kontakt: Christine Schmidt-Gärtner Tel.: 0160 94712755\nhttps://kirchenkreis-hanau.de/events/frauennetzwerk/
URL:https://kirchenkreis-hanau.de/events/frauennetzwerk/
END:VEVENT
END:VCALENDAR