BEGIN:VCALENDAR
VERSION:2.0
PRODID:-//eventon.com NONSGML v1.0//EN
BEGIN:VEVENT
UID:69e76800addf0
DTSTAMP:20260421T140520
DTSTART:20251116T213000Z
DTEND:20251116T223000Z
TZID:Pacific/Midway
LOCATION:
SUMMARY:Gottesdienst
DESCRIPTION: Gottesdienst am 16. November um 10:30 Uhr in der Laurentiuskirche Enkheim\,  Laurentiusstr. 1\,  60388 Frankfurt am Main Mit Pfarrerin Schneider\nhttps://kirchenkreis-hanau.de/events/gottesdienst-93/
URL:https://kirchenkreis-hanau.de/events/gottesdienst-93/
END:VEVENT
END:VCALENDAR