BEGIN:VCALENDAR
VERSION:2.0
PRODID:-//eventon.com NONSGML v1.0//EN
BEGIN:VEVENT
UID:69e767b941648
DTSTAMP:20260421T140409
DTSTART:20251110T050000Z
DTEND:20251110T075700Z
TZID:Pacific/Midway
LOCATION:
SUMMARY:9.11. - Klezmerkonzert mit Naschuwa zum Gedenken der Novemberpogrome von 1938
DESCRIPTION: Die evangelische und katholische Kirchengemeinden sowie die Initiative Stolpersteine Bergen-Enkheim laden herzlich zum Gedenken ein: Sonntag\,  09.11.2025\,  18.00 Uhr in der Laurentiuskirche\,  Laurentius-Str. 1\,  Bergen-Enkheim Der Eintritt ist frei.\nhttps://kirchenkreis-hanau.de/events/9-11-klezmerkonzert-mit-naschuwa-zum-gedenken-der-novemberpogrome-von-1938/
URL:https://kirchenkreis-hanau.de/events/9-11-klezmerkonzert-mit-naschuwa-zum-gedenken-der-novemberpogrome-von-1938/
END:VEVENT
END:VCALENDAR