BEGIN:VCALENDAR
VERSION:2.0
PRODID:-//eventon.com NONSGML v1.0//EN
BEGIN:VEVENT
UID:69e750333c61e
DTSTAMP:20260421T122347
DTSTART:20251012T213000Z
DTEND:20251012T223000Z
TZID:Pacific/Midway
LOCATION:
SUMMARY:Gottesdienst
DESCRIPTION: Herzliche Einladung zum Gottesdienst am 17. Sonntag nach Trinitatis\,  12. Oktober um 10:30 Uhr in der Berger Kirche (Am Königshof 5-7) mit Pfarrerin Elisa Schneider und Harald Ketzer (Orgel). &nbsp;\nhttps://kirchenkreis-hanau.de/events/gottesdienst-91/
URL:https://kirchenkreis-hanau.de/events/gottesdienst-91/
END:VEVENT
END:VCALENDAR