BEGIN:VCALENDAR
VERSION:2.0
PRODID:-//eventon.com NONSGML v1.0//EN
BEGIN:VEVENT
UID:69e7504ccdc57
DTSTAMP:20260421T122412
DTSTART:20251026T210000Z
DTEND:20251027T040000Z
TZID:Pacific/Midway
LOCATION:
SUMMARY:Kirchenvorstandswahl
DESCRIPTION: Die Wahl zum Kirchenvorstand findet am 26. Oktober 2025 statt. Die Wahlräume befinden (bei mehreren Stimmbezirken) sich im Gemeindezentrum\,  Am Königshof 5-7 in der Zeit von 10-14 Uhr in der Laurentiuskirche\,  Laurentiusstr. 1\,   von 13-17 Uhr &nbsp; Bei dieser Gelegenheit danken wir allen\,  die sich als Kandidatinnen und Kandidaten zur[..]\nhttps://kirchenkreis-hanau.de/events/kirchenvorstandswahl-2/
URL:https://kirchenkreis-hanau.de/events/kirchenvorstandswahl-2/
END:VEVENT
END:VCALENDAR