BEGIN:VCALENDAR
VERSION:2.0
PRODID:-//eventon.com NONSGML v1.0//EN
BEGIN:VEVENT
UID:69e83ba77a309
DTSTAMP:20260422T050823
DTSTART:20251101T060000Z
DTEND:20251101T070000Z
TZID:Pacific/Midway
LOCATION:Ev. Stiftskirche Windecken Kirchplatz 2\,  61130 Nidderau
SUMMARY:Gemeinsamer Reformationsgottesdienst\,  in Windecken
DESCRIPTION: Ein Gottesdienst\,  zwei Predigten am Reformationstag Die beiden Kirchengemeinden Ostheim und Windecken laden wie in jedem Jahr zu einem reformatorischen Experiment ein: Die beiden Pfarrer Lukas Ohly und Heike Käppeler möchten den Reformationsgottesdienst dazu nutzen\,  durch zwei Predigten einen reformatorischen Impuls der Kanzelrede in besonderer Weise zur Geltung zu bringen.[..]\nhttps://kirchenkreis-hanau.de/events/gemeinsamer-reformationsgottesdienst-in-windecken/
URL:https://kirchenkreis-hanau.de/events/gemeinsamer-reformationsgottesdienst-in-windecken/
END:VEVENT
END:VCALENDAR