BEGIN:VCALENDAR
VERSION:2.0
PRODID:-//eventon.com NONSGML v1.0//EN
BEGIN:VEVENT
UID:69e7e9e317326
DTSTAMP:20260421T231931
DTSTART:20251026T210000Z
DTEND:20251026T214500Z
TZID:Pacific/Midway
LOCATION:Ev. Kirche Ostheim Kirchgasse 2a\,  61130 Nidderau
SUMMARY:Gottesdienst zur Kirchenvorstandswahl\,  in Ostheim
DESCRIPTION: Die Wahl des neuen Kirchenvorstandes findet am 26. Oktober statt. An diesem Tag sollen sechs Personen für den Kirchenvorstand gewählt werden. Insgesamt gibt es dieses Jahr sechs Kandidatinnen und zwei Kandidaten\,  die sich zur Wahl stellen. Jeder Wahlberechtigte hat sechs Stimmen. Zur Wahl zugelassen sind alle evangelischen Gemeindeglieder ab vierzehn[..]\nhttps://kirchenkreis-hanau.de/events/gottesdienst-zur-kirchenvorstandswahl-in-ostheim/
URL:https://kirchenkreis-hanau.de/events/gottesdienst-zur-kirchenvorstandswahl-in-ostheim/
END:VEVENT
END:VCALENDAR