BEGIN:VCALENDAR
VERSION:2.0
PRODID:-//eventon.com NONSGML v1.0//EN
BEGIN:VEVENT
UID:69e7a93562b99
DTSTAMP:20260421T184333
DTSTART:20251002T190000Z
DTEND:20251003T040000Z
TZID:Pacific/Midway
LOCATION:Ev. Kirche Ostheim Kirchgasse 2a\,  61130 Nidderau
SUMMARY:Erntedankgabensammlung für die Nidderauer Essensbank
DESCRIPTION: In diesem Jahr bittet die Kirchengemeinde für das Erntedankfest um Erträge aus heimischen Gärten\,  aber auch um Konserven oder Lebensmittel in fest verschlossenen Behältern\,  die auf den Altar als Dankgabe gestellt werden können. Diese Erträge sollen anschließend der Nidderauer Essensbank zur Verfügung gestellt werden. Es wird daher gebeten\,  die Erträge[..]\nhttps://kirchenkreis-hanau.de/events/erntedankgabensammlung-fuer-die-nidderauer-essensbank/
URL:https://kirchenkreis-hanau.de/events/erntedankgabensammlung-fuer-die-nidderauer-essensbank/
END:VEVENT
END:VCALENDAR