BEGIN:VCALENDAR
VERSION:2.0
PRODID:-//eventon.com NONSGML v1.0//EN
BEGIN:VEVENT
UID:69e7949e92578
DTSTAMP:20260421T171542
DTSTART:20251005T210000Z
DTEND:20251005T214500Z
TZID:Pacific/Midway
LOCATION:Ev. Kirche Ostheim Kirchgasse 2a\,  61130 Nidderau
SUMMARY:Erntedankgottesdienst\,  in Ostheim
DESCRIPTION: In diesem Jahr bittet die Kirchengemeinde für das Erntedankfest um Erträge aus heimischen Gärten\,  aber auch um Konserven oder Lebensmittel in fest verschlossenen Behältern\,  die auf den Altar als Dankgabe gestellt werden können. Diese Erträge sollen anschließend der Nidderauer Essensbank zur Verfügung gestellt werden. Es wird daher gebeten\,  die Erträge[..]\nhttps://kirchenkreis-hanau.de/events/erntedankgottesdienst-in-ostheim/
URL:https://kirchenkreis-hanau.de/events/erntedankgottesdienst-in-ostheim/
END:VEVENT
END:VCALENDAR