BEGIN:VCALENDAR
VERSION:2.0
PRODID:-//eventon.com NONSGML v1.0//EN
BEGIN:VEVENT
UID:69e7460f29385
DTSTAMP:20260421T114031
DTSTART:20251008T020000Z
DTEND:20251008T043000Z
TZID:Pacific/Midway
LOCATION:Ev. Gemeindehaus Brückengemeinde Heldenbergen Bahnhofstraße 42\,  61130 Nidderau
SUMMARY:Musik-Café
DESCRIPTION: Musik-Café An jedem ersten Dienstag im Monat um 15.00 Uhr öffnet das Café seine Türen. Es gibt Kaffee und leckere selbst gebackene Kuchen\,  auch ein Gläschen Sekt oder Wein\,  wenn es gewünscht wird. Das Ganze wird von Musik untermalt. Jeder ist herzlich dazu eingeladen. Eine besondere Einladung geht an die[..]\nhttps://kirchenkreis-hanau.de/events/musik-cafe-6/
URL:https://kirchenkreis-hanau.de/events/musik-cafe-6/
END:VEVENT
END:VCALENDAR