BEGIN:VCALENDAR
VERSION:2.0
PRODID:-//eventon.com NONSGML v1.0//EN
BEGIN:VEVENT
UID:69e7477e14395
DTSTAMP:20260421T114638
DTSTART:20251120T010000Z
DTEND:20251120T043000Z
TZID:Pacific/Midway
LOCATION:Ev. Gemeindehaus Brückengemeinde Heldenbergen Bahnhofstraße 42\,  61130 Nidderau
SUMMARY:Seniorentreff
DESCRIPTION: Senioren-Treff Am dritten Mittwoch in jedem Monat um 14.00 Uhr treffen sich nette\,  fröhliche Menschen\,  um miteinander Kaffee und Kuchen zu genießen. Je nach Jahreszeit gibt es auch immer ein kleines Programm. Jeder\,  der Lust bekommen hat\,  wird mit Freuden herzlich willkommen geheißen.\nhttps://kirchenkreis-hanau.de/events/seniorentreff-7/
URL:https://kirchenkreis-hanau.de/events/seniorentreff-7/
END:VEVENT
END:VCALENDAR