BEGIN:VCALENDAR
VERSION:2.0
PRODID:-//eventon.com NONSGML v1.0//EN
BEGIN:VEVENT
UID:69e716b4a91cd
DTSTAMP:20260421T081828
DTSTART:20251016T020000Z
DTEND:20251016T043000Z
TZID:Pacific/Midway
LOCATION:Ev. Gemeindehaus Brückengemeinde Heldenbergen Bahnhofstraße 42\,  61130 Nidderau
SUMMARY:Seniorentreff
DESCRIPTION: Senioren-Treff Am dritten Mittwoch in jedem Monat um 15.00 Uhr treffen sich nette\,  fröhliche Menschen\,  um miteinander Kaffee und Kuchen zu genießen. Je nach Jahreszeit gibt es auch immer ein kleines Programm. Jeder\,  der Lust bekommen hat\,  wird mit Freuden herzlich willkommen geheißen.\nhttps://kirchenkreis-hanau.de/events/seniorentreff-6/
URL:https://kirchenkreis-hanau.de/events/seniorentreff-6/
END:VEVENT
END:VCALENDAR