BEGIN:VCALENDAR
VERSION:2.0
PRODID:-//eventon.com NONSGML v1.0//EN
BEGIN:VEVENT
UID:69e6fcd116f32
DTSTAMP:20260421T062801
DTSTART:20251027T040000Z
DTEND:20251027T105000Z
TZID:Pacific/Midway
LOCATION:Ev. Laurentiuskirche in Enkheim Laurentiusstraße 1\,  60388 Frankfurt am Main
SUMMARY:SONNTAGS:ZEIT
DESCRIPTION: Sonntag\,  26. Oktober\,  SONNTAGS:ZEIT 17:00 Uhr Laurentiuskirche\,  Sonntagszeit Team\,  Pfrin. Schneider Am Sonntag\,  26. Oktober um 17 Uhr wird in der Laurentiuskirche Enkheim wieder in gemütlicher Atmosphäre Gottesdienst unter dem Motto „SONNTAGS:ZEIT für Dich“ gefeiert. Nach der Sommerpause steht diesmal steht die Frage „Wonach sehnst Du Dich?“ im Mittelpunkt. Zu[..]\nhttps://kirchenkreis-hanau.de/events/sonntagszeit-3/
URL:https://kirchenkreis-hanau.de/events/sonntagszeit-3/
END:VEVENT
END:VCALENDAR