BEGIN:VCALENDAR
VERSION:2.0
PRODID:-//eventon.com NONSGML v1.0//EN
BEGIN:VEVENT
UID:69e6e41626aa7
DTSTAMP:20260421T044230
DTSTART:20251009T020000Z
DTEND:20251009T105000Z
TZID:Pacific/Midway
LOCATION:Gemeindezentrum Bergen Am Königshof 5-7\,  60388 Frankfurt am Main
SUMMARY:Seniorenclub
DESCRIPTION: Mittwoch\,  8. Oktober Seniorenclub\,  15:00 Uhr Gemeindezentrum\nhttps://kirchenkreis-hanau.de/events/seniorenclub-2/
URL:https://kirchenkreis-hanau.de/events/seniorenclub-2/
END:VEVENT
END:VCALENDAR