BEGIN:VCALENDAR
VERSION:2.0
PRODID:-//eventon.com NONSGML v1.0//EN
BEGIN:VEVENT
UID:69e6c983efd22
DTSTAMP:20260421T024907
DTSTART:20250923T020000Z
DTEND:20250923T105000Z
TZID:Pacific/Midway
LOCATION:Gemeindezentrum Bergen Am Königshof 5-7\,  60388 Frankfurt am Main
SUMMARY:Frauenkreis
DESCRIPTION: Montag\,  22. September\,  Frauenkreis 15 Uhr\,  Gemeindezentrum\nhttps://kirchenkreis-hanau.de/events/frauenkreis/
URL:https://kirchenkreis-hanau.de/events/frauenkreis/
END:VEVENT
END:VCALENDAR