BEGIN:VCALENDAR
VERSION:2.0
PRODID:-//eventon.com NONSGML v1.0//EN
BEGIN:VEVENT
UID:69e6b0a13c6c7
DTSTAMP:20260421T010257
DTSTART:20250916T020000Z
DTEND:20250916T105000Z
TZID:Pacific/Midway
LOCATION:
SUMMARY:Ökumenischer Frauentreff
DESCRIPTION: Montag\,  15. September Ökumenischer Frauentreff 15 Uhr Katholisches Gemeindezentrum\nhttps://kirchenkreis-hanau.de/events/oekumenischer-frauentreff/
URL:https://kirchenkreis-hanau.de/events/oekumenischer-frauentreff/
END:VEVENT
END:VCALENDAR