BEGIN:VCALENDAR
VERSION:2.0
PRODID:-//eventon.com NONSGML v1.0//EN
BEGIN:VEVENT
UID:69e697de42604
DTSTAMP:20260420T231718
DTSTART:20250921T213000Z
DTEND:20250922T105000Z
TZID:Pacific/Midway
LOCATION:Ev. Laurentiuskirche in Enkheim Laurentiusstraße 1\,  60388 Frankfurt am Main
SUMMARY:Gottesdienst mit Abendmahl - Laurentiuskirche
DESCRIPTION: Sonntag\,  21. September Gottesdienst mit Abendmahl 10:30 Uhr Laurentiuskirche\,  Pfr*in. Tovja Heymann aus Niederdorfelden\nhttps://kirchenkreis-hanau.de/events/gottesdienst-laurentiuskirche-3/
URL:https://kirchenkreis-hanau.de/events/gottesdienst-laurentiuskirche-3/
END:VEVENT
END:VCALENDAR