BEGIN:VCALENDAR
VERSION:2.0
PRODID:-//eventon.com NONSGML v1.0//EN
BEGIN:VEVENT
UID:69e67b1002e57
DTSTAMP:20260420T211424
DTSTART:20250907T213000Z
DTEND:20250908T105000Z
TZID:Pacific/Midway
LOCATION:Ev. Laurentiuskirche in Enkheim Laurentiusstraße 1\,  60388 Frankfurt am Main
SUMMARY:Gottesdienst - Laurentiuskirche
DESCRIPTION: Sonntag\,  7. September Gottesdienst 10:30 Uhr Laurentiuskirche\,  Pfrin. Schneider\nhttps://kirchenkreis-hanau.de/events/gottesdienst-laurentiuskirche-2/
URL:https://kirchenkreis-hanau.de/events/gottesdienst-laurentiuskirche-2/
END:VEVENT
END:VCALENDAR