BEGIN:VCALENDAR
VERSION:2.0
PRODID:-//eventon.com NONSGML v1.0//EN
BEGIN:VEVENT
UID:69e6622f7320d
DTSTAMP:20260420T192815
DTSTART:20251031T190000Z
DTEND:20251031T225000Z
TZID:Europe/Berlin
LOCATION:Marienkirche Marienkirche
SUMMARY:Escape-Room
DESCRIPTION: Es wird wieder knifflig in der Marienkirche: Zum zweiten Mal öffnen wir rund um den Reformationstag  wieder die Türen unseres Escape-Rooms für Familien und Jugendliche. Zusammen könnt ihr wieder spannende Rätsel und knifflige Aufgaben lösen\,  um gemeinsam die Tür des Escape-Rooms zu öffnen. Öffnungszeiten: Freitag\,  31. Oktober 20.00 – 24.00[..]\nhttps://kirchenkreis-hanau.de/events/escape-room/
URL:https://kirchenkreis-hanau.de/events/escape-room/
END:VEVENT
END:VCALENDAR