BEGIN:VCALENDAR
VERSION:2.0
PRODID:-//eventon.com NONSGML v1.0//EN
BEGIN:VEVENT
UID:69e67c1e54e8f
DTSTAMP:20260420T211854
DTSTART:20250928T210000Z
DTEND:20250929T105000Z
TZID:Pacific/Midway
LOCATION:Ev. Kirche Roßdorf Kirchstraße 19\,  63486 Bruchköbel
SUMMARY:Erntedankgottesdienst
DESCRIPTION: Ein Gottesdienst für Kleine und Große zum Erntedankfest mit Pfarrerin Christine Binder\,  Team und Posaunenchor.\nhttps://kirchenkreis-hanau.de/events/erntedankgottesdienst/
URL:https://kirchenkreis-hanau.de/events/erntedankgottesdienst/
END:VEVENT
END:VCALENDAR