BEGIN:VCALENDAR
VERSION:2.0
PRODID:-//eventon.com NONSGML v1.0//EN
BEGIN:VEVENT
UID:69e6971bdebd4
DTSTAMP:20260420T231403
DTSTART:20250926T063000Z
DTEND:20250926T105000Z
TZID:Pacific/Midway
LOCATION:
SUMMARY:Offener Gesprächskreis im Gemeindehaus
DESCRIPTION: Offener Gesprächskreis im Gemeindehaus\nhttps://kirchenkreis-hanau.de/events/offener-gespraechskreis-im-gemeindehaus-2/
URL:https://kirchenkreis-hanau.de/events/offener-gespraechskreis-im-gemeindehaus-2/
END:VEVENT
END:VCALENDAR