BEGIN:VCALENDAR
VERSION:2.0
PRODID:-//eventon.com NONSGML v1.0//EN
BEGIN:VEVENT
UID:69e6ccf87691b
DTSTAMP:20260421T030352
DTSTART:20250920T030000Z
DTEND:20250920T105000Z
TZID:Pacific/Midway
LOCATION:
SUMMARY:CrossKids
DESCRIPTION: CrossKids\nhttps://kirchenkreis-hanau.de/events/crosskids-2/
URL:https://kirchenkreis-hanau.de/events/crosskids-2/
END:VEVENT
END:VCALENDAR