BEGIN:VCALENDAR
VERSION:2.0
PRODID:-//eventon.com NONSGML v1.0//EN
BEGIN:VEVENT
UID:69e6e78257385
DTSTAMP:20260421T045706
DTSTART:20250914T210000Z
DTEND:20250914T223000Z
TZID:Pacific/Midway
LOCATION:
SUMMARY:KiGo im Gemeindehaus
DESCRIPTION: Wir feiern zusammen Kindergottesdienst. Thema: &#8230;\,  der werfe den 1. Stein.\nhttps://kirchenkreis-hanau.de/events/kigo-im-gemeindehaus/
URL:https://kirchenkreis-hanau.de/events/kigo-im-gemeindehaus/
END:VEVENT
END:VCALENDAR