BEGIN:VCALENDAR
VERSION:2.0
PRODID:-//eventon.com NONSGML v1.0//EN
BEGIN:VEVENT
UID:69e700daba512
DTSTAMP:20260421T064514
DTSTART:20250901T060000Z
DTEND:20250901T070000Z
TZID:Pacific/Midway
LOCATION:
SUMMARY:Offenes Singen in der Kirche
DESCRIPTION: Singen\,  weil es Spaß macht &#8211; mit Mareike Schinz und Niklas Vogt.\nhttps://kirchenkreis-hanau.de/events/offenes-singen-in-der-kirche/
URL:https://kirchenkreis-hanau.de/events/offenes-singen-in-der-kirche/
END:VEVENT
END:VCALENDAR